BEGIN:VCALENDAR
VERSION:2.0
PRODID:-//Rete per l&#039;Educazione Libertaria - ECPv6.15.20//NONSGML v1.0//EN
CALSCALE:GREGORIAN
METHOD:PUBLISH
X-ORIGINAL-URL:https://reteeducazionelibertaria.org
X-WR-CALDESC:Eventi per Rete per l&#039;Educazione Libertaria
REFRESH-INTERVAL;VALUE=DURATION:PT1H
X-Robots-Tag:noindex
X-PUBLISHED-TTL:PT1H
BEGIN:VTIMEZONE
TZID:UTC
BEGIN:STANDARD
TZOFFSETFROM:+0000
TZOFFSETTO:+0000
TZNAME:UTC
DTSTART:20240101T000000
END:STANDARD
END:VTIMEZONE
BEGIN:VEVENT
DTSTART;TZID=UTC:20250515T180000
DTEND;TZID=UTC:20250518T230000
DTSTAMP:20260420T091338
CREATED:20250511T155909Z
LAST-MODIFIED:20250511T155909Z
UID:5451-1747332000-1747609200@reteeducazionelibertaria.org
SUMMARY:Balkan Anarchist Bookfair 2025  - Salonicco\, 15 - 18 maggio
DESCRIPTION:La REL partecipa al tavolo di confronto sull’Educazione Libertaria alla Fiera dell’Editoria Anarchica dei Balcani. \n“Educazione libertaria/autoeducazione \nIn una società capitalista\, patriarcale e razzista\, i bambini rom\, rifugiati e immigrati vengono emarginati ed esclusi dal sistema educativo pubblico. Riconosciamo l’autonomia dei bambini e dell’infanzia e cerchiamo di coesistere e comunicare con loro attraverso relazioni paritarie\, costruendo e riproducendo la cultura collettiva che vogliamo vivere. Consideriamo essenziale lo scambio di esperienze sull’auto-organizzazione e la creazione di strutture legate all’educazione\, siano esse progetti per bambini o collettivi di auto-educazione per adulti.” \nhttps://bab2025.espivblogs.net/
URL:https://reteeducazionelibertaria.org/event/balkan-anarchist-bookfair-2025-salonicco-15-18-maggio/
LOCATION:genova
END:VEVENT
BEGIN:VEVENT
DTSTART;TZID=UTC:20250525T150000
DTEND;TZID=UTC:20250525T210000
DTSTAMP:20260420T091338
CREATED:20250517T083754Z
LAST-MODIFIED:20250517T083754Z
UID:5478-1748185200-1748206800@reteeducazionelibertaria.org
SUMMARY:Swap & Pizza party del progetto educativo libertario NUNATAK - APPRENDERE ALTROVE (Narzole-CN)
DESCRIPTION:
URL:https://reteeducazionelibertaria.org/event/swap-pizza-party-del-progetto-educativo-libertario-nunatak-apprendere-altrove-narzole-cn/
LOCATION:Nunatak – Apprendere altrove\, Via Cavour\, 251\, Narzole\, CN\, 12068\, Italia
ATTACH;FMTTYPE=image/jpeg:https://reteeducazionelibertaria.org/wp-content/uploads/2025/05/IMG-20250508-WA0001.jpg
ORGANIZER;CN="Nunatak - Apprendere altrove":MAILTO:altrove.cn@gmail.com
END:VEVENT
END:VCALENDAR