BEGIN:VCALENDAR
VERSION:2.0
PRODID:-//Rete per l&#039;Educazione Libertaria - ECPv6.15.20//NONSGML v1.0//EN
CALSCALE:GREGORIAN
METHOD:PUBLISH
X-WR-CALNAME:Rete per l&#039;Educazione Libertaria
X-ORIGINAL-URL:https://reteeducazionelibertaria.org
X-WR-CALDESC:Eventi per Rete per l&#039;Educazione Libertaria
REFRESH-INTERVAL;VALUE=DURATION:PT1H
X-Robots-Tag:noindex
X-PUBLISHED-TTL:PT1H
BEGIN:VTIMEZONE
TZID:UTC
BEGIN:STANDARD
TZOFFSETFROM:+0000
TZOFFSETTO:+0000
TZNAME:UTC
DTSTART:20210101T000000
END:STANDARD
END:VTIMEZONE
BEGIN:VEVENT
DTSTART;VALUE=DATE:20220511
DTEND;VALUE=DATE:20220516
DTSTAMP:20260420T050546
CREATED:20220417T140311Z
LAST-MODIFIED:20230329T154728Z
UID:15-1652227200-1652659199@reteeducazionelibertaria.org
SUMMARY:UN MAGGIO DI INCONTRI SULL’EDUCAZIONE LIBERTARIA DIFFUSI PER LA PENISOLA
DESCRIPTION:Ritornano gli incontri nazionali e pubblici della Rete per l’Educazione Libertaria dedicati a tutti i sostenitori\, affezionati e curiosi di conoscerci. Quest’anno l’incontro nazionale è disseminato nelle diverse realtà attive in Italia. Pubblichiamo di seguito il calendario delle date. Per i dettagli consultate la locandina dell’evento specifico. \n 
URL:https://reteeducazionelibertaria.org/event/test-event/
LOCATION:Test Location
ATTACH;FMTTYPE=image/jpeg:https://reteeducazionelibertaria.org/wp-content/uploads/2022/04/01_UN_MAGGIO_DI_INCONTRI-scaled.jpeg
END:VEVENT
END:VCALENDAR