BEGIN:VCALENDAR
VERSION:2.0
PRODID:-//Rete per l&#039;Educazione Libertaria - ECPv6.15.20//NONSGML v1.0//EN
CALSCALE:GREGORIAN
METHOD:PUBLISH
X-WR-CALNAME:Rete per l&#039;Educazione Libertaria
X-ORIGINAL-URL:https://reteeducazionelibertaria.org
X-WR-CALDESC:Eventi per Rete per l&#039;Educazione Libertaria
REFRESH-INTERVAL;VALUE=DURATION:PT1H
X-Robots-Tag:noindex
X-PUBLISHED-TTL:PT1H
BEGIN:VTIMEZONE
TZID:UTC
BEGIN:STANDARD
TZOFFSETFROM:+0000
TZOFFSETTO:+0000
TZNAME:UTC
DTSTART:20250101T000000
END:STANDARD
END:VTIMEZONE
BEGIN:VEVENT
DTSTART;VALUE=DATE:20260416
DTEND;VALUE=DATE:20260417
DTSTAMP:20260419T183550
CREATED:20260410T095053Z
LAST-MODIFIED:20260410T095053Z
UID:5577-1776297600-1776383999@reteeducazionelibertaria.org
SUMMARY:open day officina del crescere
DESCRIPTION:ultimo open day per le iscrizioni di settembre 2026\n  \nofficina del crescere apre le sue porte per farsi conoscere! \ngiovedì 16 aprile ultimo open day per le iscrizioni di settembre 2026
URL:https://reteeducazionelibertaria.org/event/open-day-officina-del-crescere/
LOCATION:Officina del Crescere\, salita della madonnetta 6\, genova\, genova\, Italia
END:VEVENT
END:VCALENDAR