BEGIN:VCALENDAR
VERSION:2.0
PRODID:-//Rete per l&#039;Educazione Libertaria - ECPv6.15.20//NONSGML v1.0//EN
CALSCALE:GREGORIAN
METHOD:PUBLISH
X-ORIGINAL-URL:https://reteeducazionelibertaria.org
X-WR-CALDESC:Eventi per Rete per l&#039;Educazione Libertaria
REFRESH-INTERVAL;VALUE=DURATION:PT1H
X-Robots-Tag:noindex
X-PUBLISHED-TTL:PT1H
BEGIN:VTIMEZONE
TZID:UTC
BEGIN:STANDARD
TZOFFSETFROM:+0000
TZOFFSETTO:+0000
TZNAME:UTC
DTSTART:20250101T000000
END:STANDARD
END:VTIMEZONE
BEGIN:VEVENT
DTSTART;TZID=UTC:20260124T093000
DTEND;TZID=UTC:20260124T173000
DTSTAMP:20260419T231842
CREATED:20260111T220045Z
LAST-MODIFIED:20260121T204656Z
UID:5518-1769247000-1769275800@reteeducazionelibertaria.org
SUMMARY:SEMINARIO APERTO
DESCRIPTION:Un seminario aperto a chiunque fosse interessato a conoscere la Rete per l’Educazione Libertaria.\n\nSABATO 24 GENNAIO \n\nUn momento per conoscersi\, confrontarsi e dialogare insieme a proposito di educazione. Come Rel\, proponiamo questo momento di confronto tra tutte e tutti gli interessati all’educazione\, insegnanti\, studentesse e studenti\, genitori\, educatori ed educatrici e tutte le persone che\, come noi\, sentono che aprire uno spazio di dibattito sia  importante.\n\nProponiamo come focus\, punti centrali della discussione due argomenti: la partecipazione dei genitori (modalità decisionali\, responsabilità\, mansioni\, conflitti e risorse\, proiezioni e aspettative) e la ritualità (tra significato\, valori\, stagionalità\, ciclicità\, continuità e  forma rigida e vuota che soffoca spontaneità e desideri).\nIn particolare la proposta per questa giornata era di poter affrontare insieme queste due tematiche in relazione alla pratica\, alle realtà e ai gruppi di educazione libertaria e alle idee e la storia di questo pensiero.\n\n\n\n\n\n\nSe siete interessate/ interessati ricordiamo che per partecipare è necessario iscriversi chiamando\, mandando un messaggio o un whatsapp al numero 348 1773020\, oppure puoi contattare il progetto di educazione libertaria più vicino a te geograficamente controllando la mappa sul sito\n\nhttps://reteeducazionelibertaria.org/
URL:https://reteeducazionelibertaria.org/event/seminario-aperto/
LOCATION:torino\, torino
ATTACH;FMTTYPE=image/png:https://reteeducazionelibertaria.org/wp-content/uploads/2026/01/Seminario-aperto.png
END:VEVENT
END:VCALENDAR