BEGIN:VCALENDAR
VERSION:2.0
PRODID:-//Rete per l&#039;Educazione Libertaria - ECPv6.15.20//NONSGML v1.0//EN
CALSCALE:GREGORIAN
METHOD:PUBLISH
X-WR-CALNAME:Rete per l&#039;Educazione Libertaria
X-ORIGINAL-URL:https://reteeducazionelibertaria.org
X-WR-CALDESC:Eventi per Rete per l&#039;Educazione Libertaria
REFRESH-INTERVAL;VALUE=DURATION:PT1H
X-Robots-Tag:noindex
X-PUBLISHED-TTL:PT1H
BEGIN:VTIMEZONE
TZID:UTC
BEGIN:STANDARD
TZOFFSETFROM:+0000
TZOFFSETTO:+0000
TZNAME:UTC
DTSTART:20230101T000000
END:STANDARD
END:VTIMEZONE
BEGIN:VEVENT
DTSTART;VALUE=DATE:20240504
DTEND;VALUE=DATE:20240505
DTSTAMP:20260421T030234
CREATED:20240326T085947Z
LAST-MODIFIED:20240420T100948Z
UID:5407-1714780800-1714867199@reteeducazionelibertaria.org
SUMMARY:XI. Incontro Nazionale REL - Torino
DESCRIPTION:LE PRATICHE OLTRE LA LAMENTELA\n11° Incontro nazionale REL – 4 maggio 2024 – Torino\nLa Rete di Educazione Libertaria organizza l’undicesimo incontro nazionale. \nL’evento si svolgerà a Torino presso il Centro Sociale Occupato Autogestito GABRIO. \nL’incontro è pubblico e dedicato a tutti i sostenitori\, affezionati e curiosi di conoscerci. \nIn questa edizione la Rete si propone di aprire un dialogo con persone che lavorano nei più svariati contesti educativi e che\, critiche verso la situazione educativa in cui operano\, sono alla ricerca di nuove pratiche e orizzonti ispirati all’educazione libertaria. La giornata sarà dedicata all’approfondimento pratico ed esperienziale dei principi dell’educazione libertaria. \nProgramma: \nOre 9.30 ARRIVO e ACCOGLIENZA \nOre 10.00 PRESENTAZIONE della REL e della giornata \nOre 10.30 TEORIE E PRATICHE DELL’EDUCAZIONE LIBERTARIA. \nLe scuole attive sul territorio nazionale si raccontano a partire da 4 temi centrali: \n·        educazione integrale \n·        incidentalità \n·        coscientizzazione e auto valutazione \n·        assemblea\, relazioni paritarie e dinamiche di potere \nOre 13.00 PAUSA PRANZO \nOre 14.30 “ESPERIENZE LIBERTARIE IN ALTRI CONTESTI” \nRacconti di percorsi ispirati all’educazione libertaria nelle scuole statali. \nIntervengono gli insegnanti: \n·        Giampiero Monaca (progetto “Bimbisvegli”) \n·        Federica Bruzzone (progetto “Fuori classe”) \n·        Martina Manni (scuola primaria statale) \nOre 16.30 TAVOLE TEMATICHE \nCercheremo di approfondire quanto emerso durante la mattinata\, aprendo un confronto con i partecipanti. \nOre 18.00 CONCLUSIONE E SALUTI \n… a seguire… CONCERTO \n  \nSaranno a disposizione dei partecipanti \nMOSTRA a cura della Rel: “La storia dell’educazione libertaria” \nLIBRI E PUBBLICAZIONI \nMERCATINO delle autoproduzioni di bambin* e ragazz* \nLABORATORI per i bimb*\, organizzati dai bimb*\, senza la supervisione degli adulti \nPRANZO con prenotazione al nr 340 4727295 o 3314114544 entro il 27 aprile \n  \nINFORMAZIONI \nL’evento è a OFFERTA LIBERA e responsabile; è confermato anche in caso di maltempo \nDOVE SIAMO: CSAO GABRIO\, Via Francesco Millio\, 44\, 10141 Torino TO
URL:https://reteeducazionelibertaria.org/event/11-incontro-nazionale-rel-torino/
LOCATION:CSOA Gabrio\, Via Francesco Millio\, 42\,\, Torino TO\, 10141\, Italia
ATTACH;FMTTYPE=image/png:https://reteeducazionelibertaria.org/wp-content/uploads/2024/03/20240328_132327_0000.png
END:VEVENT
END:VCALENDAR