BEGIN:VCALENDAR
VERSION:2.0
PRODID:-//Rete per l&#039;Educazione Libertaria - ECPv6.15.20//NONSGML v1.0//EN
CALSCALE:GREGORIAN
METHOD:PUBLISH
X-ORIGINAL-URL:https://reteeducazionelibertaria.org
X-WR-CALDESC:Eventi per Rete per l&#039;Educazione Libertaria
REFRESH-INTERVAL;VALUE=DURATION:PT1H
X-Robots-Tag:noindex
X-PUBLISHED-TTL:PT1H
BEGIN:VTIMEZONE
TZID:UTC
BEGIN:STANDARD
TZOFFSETFROM:+0000
TZOFFSETTO:+0000
TZNAME:UTC
DTSTART:20230101T000000
END:STANDARD
END:VTIMEZONE
BEGIN:VEVENT
DTSTART;VALUE=DATE:20240321
DTEND;VALUE=DATE:20240322
DTSTAMP:20260421T051928
CREATED:20240311T171848Z
LAST-MODIFIED:20240311T171848Z
UID:5400-1710979200-1711065599@reteeducazionelibertaria.org
SUMMARY:PERCORSO CONOSCITIVO Officina del Crescere
DESCRIPTION:due appuntamenti per conoscere il progetto di Officina del crescere per l’iscrizioni 2024/2025. \nil primo appuntamento è giovedì 21 marzo dove parleremo di educazione libertaria e come funziona Officina del Crescere; \nnel secondo appuntamento martedì 16 aprile parleremo della parte economica e burocratica con uno spazio alle domande aperte. \ni nostri progetti: \n\nprimavera (12 mesi – 2 anni)\nmaterna (3 – 6 anni)\nprimaria (6 anni – 11 anni)
URL:https://reteeducazionelibertaria.org/event/percorso-conoscitivo-officina-del-crescere/
LOCATION:Officina del Crescere\, salita della madonnetta 6\, genova\, genova\, Italia
ATTACH;FMTTYPE=image/jpeg:https://reteeducazionelibertaria.org/wp-content/uploads/2024/03/openday-marzo-aprile.jpg
ORGANIZER;CN="Officina del crescere":MAILTO:equipe-educativa@officinadelcrescere.it
END:VEVENT
END:VCALENDAR